BEGIN:VCALENDAR
PRODID:http://www.kufer.de/kuferweb / DE
VERSION:2.0
METHOD:PUBLISH
CALSCALE:GREGORIAN
X-WR-TIMEZONE:Europe/Berlin
BEGIN:VTIMEZONE
TZID:Europe/Berlin
X-LIC-LOCATION:Europe/Berlin
BEGIN:DAYLIGHT
TZOFFSETFROM:+0100
TZOFFSETTO:+0200
TZNAME:CEST
DTSTART;TZID=Europe/Berlin:19700329T020000
RRULE:FREQ=YEARLY;INTERVAL=1;BYDAY=-1SU;BYMONTH=3
END:DAYLIGHT
BEGIN:STANDARD
TZOFFSETFROM:+0200
TZOFFSETTO:+0100
TZNAME:CET
DTSTART;TZID=Europe/Berlin:19701025T030000
RRULE:FREQ=YEARLY;INTERVAL=1;BYDAY=-1SU;BYMONTH=10
END:STANDARD
END:VTIMEZONE
BEGIN:VEVENT
DTSTAMP:20260420T154204
DTSTART;TZID=Europe/Berlin:20260414T160000
DTEND;TZID=Europe/Berlin:20260414T170000
UID:252-30102A-20260414T160000@VHSGRENZACH-WYHLEN
SUMMARY:Yoga auf dem Stuhl (252-30102A) 
LOCATION:Haus der Begegnung, vhs-Kursraum 2, Scheffelstr. 3, 79639 Grenzach-Wyhlen
END:VEVENT
BEGIN:VEVENT
DTSTAMP:20260420T154204
DTSTART;TZID=Europe/Berlin:20260421T160000
DTEND;TZID=Europe/Berlin:20260421T170000
UID:252-30102A-20260421T160000@VHSGRENZACH-WYHLEN
SUMMARY:Yoga auf dem Stuhl (252-30102A) 
LOCATION:Haus der Begegnung, vhs-Kursraum 2, Scheffelstr. 3, 79639 Grenzach-Wyhlen
END:VEVENT
BEGIN:VEVENT
DTSTAMP:20260420T154204
DTSTART;TZID=Europe/Berlin:20260428T160000
DTEND;TZID=Europe/Berlin:20260428T170000
UID:252-30102A-20260428T160000@VHSGRENZACH-WYHLEN
SUMMARY:Yoga auf dem Stuhl (252-30102A) 
LOCATION:Haus der Begegnung, vhs-Kursraum 2, Scheffelstr. 3, 79639 Grenzach-Wyhlen
END:VEVENT
BEGIN:VEVENT
DTSTAMP:20260420T154204
DTSTART;TZID=Europe/Berlin:20260505T160000
DTEND;TZID=Europe/Berlin:20260505T170000
UID:252-30102A-20260505T160000@VHSGRENZACH-WYHLEN
SUMMARY:Yoga auf dem Stuhl (252-30102A) 
LOCATION:Haus der Begegnung, vhs-Kursraum 2, Scheffelstr. 3, 79639 Grenzach-Wyhlen
END:VEVENT
BEGIN:VEVENT
DTSTAMP:20260420T154204
DTSTART;TZID=Europe/Berlin:20260512T160000
DTEND;TZID=Europe/Berlin:20260512T170000
UID:252-30102A-20260512T160000@VHSGRENZACH-WYHLEN
SUMMARY:Yoga auf dem Stuhl (252-30102A) 
LOCATION:Haus der Begegnung, vhs-Kursraum 2, Scheffelstr. 3, 79639 Grenzach-Wyhlen
END:VEVENT
BEGIN:VEVENT
DTSTAMP:20260420T154204
DTSTART;TZID=Europe/Berlin:20260519T160000
DTEND;TZID=Europe/Berlin:20260519T170000
UID:252-30102A-20260519T160000@VHSGRENZACH-WYHLEN
SUMMARY:Yoga auf dem Stuhl (252-30102A) 
LOCATION:Haus der Begegnung, vhs-Kursraum 2, Scheffelstr. 3, 79639 Grenzach-Wyhlen
END:VEVENT
BEGIN:VEVENT
DTSTAMP:20260420T154204
DTSTART;TZID=Europe/Berlin:20260609T160000
DTEND;TZID=Europe/Berlin:20260609T170000
UID:252-30102A-20260609T160000@VHSGRENZACH-WYHLEN
SUMMARY:Yoga auf dem Stuhl (252-30102A) 
LOCATION:Haus der Begegnung, vhs-Kursraum 2, Scheffelstr. 3, 79639 Grenzach-Wyhlen
END:VEVENT
BEGIN:VEVENT
DTSTAMP:20260420T154204
DTSTART;TZID=Europe/Berlin:20260616T160000
DTEND;TZID=Europe/Berlin:20260616T170000
UID:252-30102A-20260616T160000@VHSGRENZACH-WYHLEN
SUMMARY:Yoga auf dem Stuhl (252-30102A) 
LOCATION:Haus der Begegnung, vhs-Kursraum 2, Scheffelstr. 3, 79639 Grenzach-Wyhlen
END:VEVENT
BEGIN:VEVENT
DTSTAMP:20260420T154204
DTSTART;TZID=Europe/Berlin:20260623T160000
DTEND;TZID=Europe/Berlin:20260623T170000
UID:252-30102A-20260623T160000@VHSGRENZACH-WYHLEN
SUMMARY:Yoga auf dem Stuhl (252-30102A) 
LOCATION:Haus der Begegnung, vhs-Kursraum 2, Scheffelstr. 3, 79639 Grenzach-Wyhlen
END:VEVENT
BEGIN:VEVENT
DTSTAMP:20260420T154204
DTSTART;TZID=Europe/Berlin:20260630T160000
DTEND;TZID=Europe/Berlin:20260630T170000
UID:252-30102A-20260630T160000@VHSGRENZACH-WYHLEN
SUMMARY:Yoga auf dem Stuhl (252-30102A) 
LOCATION:Haus der Begegnung, vhs-Kursraum 2, Scheffelstr. 3, 79639 Grenzach-Wyhlen
END:VEVENT
END:VCALENDAR