BEGIN:VCALENDAR
PRODID:http://www.kufer.de/kuferweb / DE
VERSION:2.0
METHOD:PUBLISH
CALSCALE:GREGORIAN
X-WR-TIMEZONE:Europe/Berlin
BEGIN:VTIMEZONE
TZID:Europe/Berlin
X-LIC-LOCATION:Europe/Berlin
BEGIN:DAYLIGHT
TZOFFSETFROM:+0100
TZOFFSETTO:+0200
TZNAME:CEST
DTSTART;TZID=Europe/Berlin:19700329T020000
RRULE:FREQ=YEARLY;INTERVAL=1;BYDAY=-1SU;BYMONTH=3
END:DAYLIGHT
BEGIN:STANDARD
TZOFFSETFROM:+0200
TZOFFSETTO:+0100
TZNAME:CET
DTSTART;TZID=Europe/Berlin:19701025T030000
RRULE:FREQ=YEARLY;INTERVAL=1;BYDAY=-1SU;BYMONTH=10
END:STANDARD
END:VTIMEZONE
BEGIN:VEVENT
DTSTAMP:20260421T133007
DTSTART;TZID=Europe/Berlin:20260430T091500
DTEND;TZID=Europe/Berlin:20260430T103000
UID:252-40903A-20260430T091500@VHSGRENZACH-WYHLEN
SUMMARY:Italienisch für Einsteiger:innen (A1-2) (252-40903A) 
LOCATION:Evangelisches Gemeindehaus Grenzach, Café, Hauptstraße 32, 79639 Grenzach-Wyhlen
END:VEVENT
BEGIN:VEVENT
DTSTAMP:20260421T133007
DTSTART;TZID=Europe/Berlin:20260507T091500
DTEND;TZID=Europe/Berlin:20260507T103000
UID:252-40903A-20260507T091500@VHSGRENZACH-WYHLEN
SUMMARY:Italienisch für Einsteiger:innen (A1-2) (252-40903A) 
LOCATION:Evangelisches Gemeindehaus Grenzach, Café, Hauptstraße 32, 79639 Grenzach-Wyhlen
END:VEVENT
BEGIN:VEVENT
DTSTAMP:20260421T133007
DTSTART;TZID=Europe/Berlin:20260521T091500
DTEND;TZID=Europe/Berlin:20260521T103000
UID:252-40903A-20260521T091500@VHSGRENZACH-WYHLEN
SUMMARY:Italienisch für Einsteiger:innen (A1-2) (252-40903A) 
LOCATION:Evangelisches Gemeindehaus Grenzach, Café, Hauptstraße 32, 79639 Grenzach-Wyhlen
END:VEVENT
BEGIN:VEVENT
DTSTAMP:20260421T133007
DTSTART;TZID=Europe/Berlin:20260611T091500
DTEND;TZID=Europe/Berlin:20260611T103000
UID:252-40903A-20260611T091500@VHSGRENZACH-WYHLEN
SUMMARY:Italienisch für Einsteiger:innen (A1-2) (252-40903A) 
LOCATION:Evangelisches Gemeindehaus Grenzach, Café, Hauptstraße 32, 79639 Grenzach-Wyhlen
END:VEVENT
BEGIN:VEVENT
DTSTAMP:20260421T133007
DTSTART;TZID=Europe/Berlin:20260618T091500
DTEND;TZID=Europe/Berlin:20260618T103000
UID:252-40903A-20260618T091500@VHSGRENZACH-WYHLEN
SUMMARY:Italienisch für Einsteiger:innen (A1-2) (252-40903A) 
LOCATION:Evangelisches Gemeindehaus Grenzach, Café, Hauptstraße 32, 79639 Grenzach-Wyhlen
END:VEVENT
BEGIN:VEVENT
DTSTAMP:20260421T133007
DTSTART;TZID=Europe/Berlin:20260702T091500
DTEND;TZID=Europe/Berlin:20260702T103000
UID:252-40903A-20260702T091500@VHSGRENZACH-WYHLEN
SUMMARY:Italienisch für Einsteiger:innen (A1-2) (252-40903A) 
LOCATION:Evangelisches Gemeindehaus Grenzach, Café, Hauptstraße 32, 79639 Grenzach-Wyhlen
END:VEVENT
BEGIN:VEVENT
DTSTAMP:20260421T133007
DTSTART;TZID=Europe/Berlin:20260709T091500
DTEND;TZID=Europe/Berlin:20260709T103000
UID:252-40903A-20260709T091500@VHSGRENZACH-WYHLEN
SUMMARY:Italienisch für Einsteiger:innen (A1-2) (252-40903A) 
LOCATION:Evangelisches Gemeindehaus Grenzach, Café, Hauptstraße 32, 79639 Grenzach-Wyhlen
END:VEVENT
BEGIN:VEVENT
DTSTAMP:20260421T133007
DTSTART;TZID=Europe/Berlin:20260716T091500
DTEND;TZID=Europe/Berlin:20260716T103000
UID:252-40903A-20260716T091500@VHSGRENZACH-WYHLEN
SUMMARY:Italienisch für Einsteiger:innen (A1-2) (252-40903A) 
LOCATION:Evangelisches Gemeindehaus Grenzach, Café, Hauptstraße 32, 79639 Grenzach-Wyhlen
END:VEVENT
BEGIN:VEVENT
DTSTAMP:20260421T133007
DTSTART;TZID=Europe/Berlin:20260723T091500
DTEND;TZID=Europe/Berlin:20260723T103000
UID:252-40903A-20260723T091500@VHSGRENZACH-WYHLEN
SUMMARY:Italienisch für Einsteiger:innen (A1-2) (252-40903A) 
LOCATION:Evangelisches Gemeindehaus Grenzach, Café, Hauptstraße 32, 79639 Grenzach-Wyhlen
END:VEVENT
END:VCALENDAR